BEGIN:VCALENDAR
VERSION:2.0
PRODID:-//Semaine du Japon en Occitanie - ECPv6.8.2//NONSGML v1.0//EN
CALSCALE:GREGORIAN
METHOD:PUBLISH
X-WR-CALNAME:Semaine du Japon en Occitanie
X-ORIGINAL-URL:https://semainejaponoccitanie.fr
X-WR-CALDESC:Évènements pour Semaine du Japon en Occitanie
REFRESH-INTERVAL;VALUE=DURATION:PT1H
X-Robots-Tag:noindex
X-PUBLISHED-TTL:PT1H
BEGIN:VTIMEZONE
TZID:Europe/Helsinki
BEGIN:DAYLIGHT
TZOFFSETFROM:+0200
TZOFFSETTO:+0300
TZNAME:EEST
DTSTART:20220327T010000
END:DAYLIGHT
BEGIN:STANDARD
TZOFFSETFROM:+0300
TZOFFSETTO:+0200
TZNAME:EET
DTSTART:20221030T010000
END:STANDARD
BEGIN:DAYLIGHT
TZOFFSETFROM:+0200
TZOFFSETTO:+0300
TZNAME:EEST
DTSTART:20230326T010000
END:DAYLIGHT
BEGIN:STANDARD
TZOFFSETFROM:+0300
TZOFFSETTO:+0200
TZNAME:EET
DTSTART:20231029T010000
END:STANDARD
END:VTIMEZONE
BEGIN:VEVENT
DTSTART;TZID=Europe/Helsinki:20221007T000000
DTEND;TZID=Europe/Helsinki:20230707T235959
DTSTAMP:20260425T215634
CREATED:20221020T222242Z
LAST-MODIFIED:20221020T222244Z
UID:1312-1665100800-1688774399@semainejaponoccitanie.fr
SUMMARY:Correspondance entre les élèves de l'école de Donnazac en France et l'école de Mitoyo au Japon
DESCRIPTION:Présentation de leur pays\, leur école\, leur culture par les élèves de l’école de Donnazac en France et l’école de Mitoyo au Japon.
URL:https://semainejaponoccitanie.fr/evenements/correspondance-entre-les-eleves-de-lecole-de-donnazac-en-france-et-lecole-de-mitoyo-au-japon/
LOCATION:Ecole de Donnazac\, Donnazac\, 81170
CATEGORIES:Autre
ORGANIZER;CN="Ecole de Donnazac":MAILTO:ce.0810497A@ac-toulouse.fr
END:VEVENT
BEGIN:VEVENT
DTSTART;TZID=Europe/Helsinki:20221124T130000
DTEND;TZID=Europe/Helsinki:20221124T170000
DTSTAMP:20260425T215634
CREATED:20221020T221011Z
LAST-MODIFIED:20221020T221013Z
UID:1552-1669294800-1669309200@semainejaponoccitanie.fr
SUMMARY:Les élèves du lycée Jacques Prévert à la rencontre du Japon à travers le Kimono
DESCRIPTION:Madame Henry Anita\, experte dans l’art du Kimono et du Kitsuke\, est invitée au lycée Jacques Prévert pour faire découvrir aux élèves inscrits en option Japonais LV3 le monde du Kimono.\nAprès une conférence durant laquelle les élèves découvriront à travers les Kimono le monde raffiné de l’esthétique japonaise\, certains d’entre eux auront l’occasion d’être vêtu d’un des Kimono en soie de la collection privée de Anita Henry.\nLa rencontre terminera sur un échange sur la culture japonaise.
URL:https://semainejaponoccitanie.fr/evenements/les-eleves-du-lycee-jacques-prevert-a-la-rencontre-du-japon-a-travers-le-kimono/
LOCATION:Lycée Jacques Prévert\, 1 place Lucie Aubrac\, Saint-Christol-les-Alès\, 30380
CATEGORIES:Atelier,Conférence
ATTACH;FMTTYPE=image/jpeg:https://semainejaponoccitanie.fr/wp-content/uploads/2022/10/couverture-kimono-evenement-scaled.jpg
END:VEVENT
END:VCALENDAR