BEGIN:VCALENDAR
VERSION:2.0
PRODID:-//Semaine du Japon en Occitanie - ECPv6.8.2//NONSGML v1.0//EN
CALSCALE:GREGORIAN
METHOD:PUBLISH
X-ORIGINAL-URL:https://semainejaponoccitanie.fr
X-WR-CALDESC:Évènements pour Semaine du Japon en Occitanie
REFRESH-INTERVAL;VALUE=DURATION:PT1H
X-Robots-Tag:noindex
X-PUBLISHED-TTL:PT1H
BEGIN:VTIMEZONE
TZID:Europe/Helsinki
BEGIN:DAYLIGHT
TZOFFSETFROM:+0200
TZOFFSETTO:+0300
TZNAME:EEST
DTSTART:20220327T010000
END:DAYLIGHT
BEGIN:STANDARD
TZOFFSETFROM:+0300
TZOFFSETTO:+0200
TZNAME:EET
DTSTART:20221030T010000
END:STANDARD
BEGIN:DAYLIGHT
TZOFFSETFROM:+0200
TZOFFSETTO:+0300
TZNAME:EEST
DTSTART:20230326T010000
END:DAYLIGHT
BEGIN:STANDARD
TZOFFSETFROM:+0300
TZOFFSETTO:+0200
TZNAME:EET
DTSTART:20231029T010000
END:STANDARD
END:VTIMEZONE
BEGIN:VEVENT
DTSTART;TZID=Europe/Helsinki:20221007T000000
DTEND;TZID=Europe/Helsinki:20230707T235959
DTSTAMP:20260425T203415
CREATED:20221020T222242Z
LAST-MODIFIED:20221020T222244Z
UID:1312-1665100800-1688774399@semainejaponoccitanie.fr
SUMMARY:Correspondance entre les élèves de l'école de Donnazac en France et l'école de Mitoyo au Japon
DESCRIPTION:Présentation de leur pays\, leur école\, leur culture par les élèves de l’école de Donnazac en France et l’école de Mitoyo au Japon.
URL:https://semainejaponoccitanie.fr/evenements/correspondance-entre-les-eleves-de-lecole-de-donnazac-en-france-et-lecole-de-mitoyo-au-japon/
LOCATION:Ecole de Donnazac\, Donnazac\, 81170
CATEGORIES:Autre
ORGANIZER;CN="Ecole de Donnazac":MAILTO:ce.0810497A@ac-toulouse.fr
END:VEVENT
BEGIN:VEVENT
DTSTART;TZID=Europe/Helsinki:20221125T080000
DTEND;TZID=Europe/Helsinki:20221202T170000
DTSTAMP:20260425T203415
CREATED:20221022T154229Z
LAST-MODIFIED:20221022T154231Z
UID:1934-1669363200-1670000400@semainejaponoccitanie.fr
SUMMARY:Semaine du Japon du lycée Saint Stanislas
DESCRIPTION:Exposés réalisés par les élèves des lycées St Stanislas et St Vincent de PaulAtelier cuisine japonaise (onigiri et omisoshiru)Atelier HaïkuProjection du film  » Mes voisins des Yamada »
URL:https://semainejaponoccitanie.fr/evenements/semaine-du-japon-du-lycee-saint-stanislas/
LOCATION:Institution Saint Stanislas\, Nimes\, 16 rue des Chassaintes\,\, Nîmes\, 30900
CATEGORIES:Exposition
END:VEVENT
BEGIN:VEVENT
DTSTART;TZID=Europe/Helsinki:20221128T000000
DTEND;TZID=Europe/Helsinki:20221202T235959
DTSTAMP:20260425T203415
CREATED:20221020T222401Z
LAST-MODIFIED:20221117T165130Z
UID:1365-1669593600-1670025599@semainejaponoccitanie.fr
SUMMARY:Le lycée St Vincent de Paul à l'heure du Japon
DESCRIPTION:Toute la semaine\, sonnerie reprenant un extrait de la musique traditionnelle « Sakura »  \n  \n Au CDI \n– exposition de dessins\, \n– revue de presse sur l’art japonais\,  \n– affichage de Haïkus\,  \n– prêt de nouvelles séries de mangas (vote participatif des élèves pour le choix de ces acquisitions) \n– valorisation de livres et magazines sur les banques d’accueil (Culture\, artistes\, écrivains\, Histoire…) .  \n– exposition de 2 kimonos traditionnels. \n  \nDans le patio : \n– exposition sur le Japon\, réalisée par les élèves de la classe option Japonais\,  \n– exposition de kimonos en papier\, réalisés par les élèves de la classe de 2nde. Impressions à partir d’oeuvres d’artistes japonais\, \n  \n– présence d’un stand de mangas et produits dérivés de la librairie nimoise Terre-2 dans le patio de 12h à 14h du lundi 28 novembre au vendredi 2 décembre\, \n– visite des expositions des élèves de la classe option japonais\, (lycée St Vincent de Paul et lycée Saint Stanislas)\, lundi 28 novembre et vendredi 2 décembre à 13h.  \n  \n– mardi 29 novembre : à 12h\, repas japonais proposé aux élèves et au personnel de l’établissement.  \n                                    à 12h30 démonstration d’Aïkido avec Jacques Lecomte\, Président de la ligue d’Aïkido Occitanie et                                                    ses élèves.  \n– vendredi 2 décembre\, cours d’Aïkido proposés par Jacques Lecomte\, de 12h à 13h et de 13h à 14h dans le gymnase.
URL:https://semainejaponoccitanie.fr/evenements/le-lycee-st-vincent-de-paul-a-lheure-du-japon/
LOCATION:Lycée St Vincent de Paul\, Nîmes\, 3 BOULEVARD DE BRUXELLES\, nimes\, 30020\, France
CATEGORIES:Autre
ORGANIZER;CN="C%C3%A9line B%C3%A9n%C3%A9zech":MAILTO:cdi@vincentdepaul30.com
END:VEVENT
BEGIN:VEVENT
DTSTART;TZID=Europe/Helsinki:20221128T080000
DTEND;TZID=Europe/Helsinki:20221204T170000
DTSTAMP:20260425T203415
CREATED:20221020T215329Z
LAST-MODIFIED:20221020T215330Z
UID:1393-1669622400-1670173200@semainejaponoccitanie.fr
SUMMARY:Semaine du Japon
DESCRIPTION:Activités durant cette semaine sur la culture japonaise.\nExposition « Senpaï » sur les mangas.
URL:https://semainejaponoccitanie.fr/evenements/semaine-du-japon-2/
LOCATION:Collège Voltaire -Tarbes\, rue Alfred Kastler\, Tarbes\, 65000
CATEGORIES:Exposition
ORGANIZER;CN="Coll%C3%A8ge Voltaire":MAILTO:cdi.voltaire65@ac-toulouse.fr
END:VEVENT
BEGIN:VEVENT
DTSTART;TZID=Europe/Helsinki:20221128T120000
DTEND;TZID=Europe/Helsinki:20221223T170000
DTSTAMP:20260425T203415
CREATED:20221020T221729Z
LAST-MODIFIED:20221020T221730Z
UID:1410-1669636800-1671814800@semainejaponoccitanie.fr
SUMMARY:Le Japon au Collège des Sept Tours de Martel (46)
DESCRIPTION:PROJET « SEMAINE DU JAPON EN OCCITANIE »\net\nCLUB DE JAPONAIS AU COLLEGE DES SEPT TOURS DE MARTEL\n________________ \n1) Description générale du projet de notre établissement en lien avec l’événement proposé \na) Projet de M. BERTHOMMIER\, professeur d’anglais (titulaire d’une licence LLCER Japonais): \n– à compter du lundi 7 novembre 2022\, et durant toute l’année scolaire: création d’un club/atelier hebdomadaire fixe de découverte de la langue et de la culture moderne et traditionnelle japonaise\, avec atelier calligraphie et projet de fin d’année. Les bases de la langue japonaise seront enseignées aux élèves volontaires sélectionnés issus des classes de 4ème et 3ème du collège de Martel. \n– projet de fin d’année : réalisation par les élèves du club de japonais d’une grande banderole décorée pour le collège: « 七塔の中学校へようこそ！ » / « Bienvenue au Collège des Sept Tours ! » \n– ambition future : établir un contact avec un établissement scolaire japonais pour mettre en place un échange franco-japonais entre élèves. \nb) Projet de Mme POUJADE\, professeure documentaliste : \n– lancement du prix SENSEI  (15 mangas/an proposés aux élèves dans 3 catégories) \n– écriture de haïkus par les élèves de 6èmes pour créer un carnet qui sera relié par M. Lamic (relieur à Martel)\, 3ème volet du projet « le papier dans tous ses états ». \nc) Projet du Service Restauration du collège de Martel : \n– dans le cadre de la Semaine du Japon en Occitanie\, élaboration par les élèves inscrits au Club de japonais décrit en 1)a) d’affiches décoratives calligraphiées pour la cantine\, sur le thème du Japon. \n– élaboration par l’équipe du service restauration de menus sur le thème du Japon pour tous les élèves inscrits à la cantine la semaine du 25 novembre au 2 décembre 2022. \n(ATTENTION: LE CRÉNEAU CHOISI POUR LA DATE ET DURÉE DE L’EVENEMENT sont ceux liés à la restauration décrits ci-dessus\, et ne s’appliquent pas aux ateliers pouvant être mis en place pour tout le reste de l’année)\n________________ \n2) Thèmes et domaines impliqués dans le projet proposé par notre EPLE \n> Culture : Découverte et valorisation du patrimoine artistique\, musical\, littéraire\, gastronomique\, audiovisuel\, des arts plastiques et de l’architecture du Japon. \n> Éducation-Recherche : l’apprentissage de la langue du pays partenaire et le partenariat dans différents domaines ainsi que l’ambition d’un projet binational pérenne entre établissements scolaires (à définir). \n> Coopération : implication de notre public de collégiens dans l’animation de l’amitié entre les deux pays\, avec pour but d’inscrire durablement cette manifestation dans le calendrier de la coopération franco-japonaise\, le tout via une initiative locale en Occitanie rurale.
URL:https://semainejaponoccitanie.fr/evenements/le-japon-au-college-des-sept-tours-de-martel-46/
LOCATION:Collège des Sept Tours\, MARTEL (46)\, Avenue de Souillac\, Martel\, 46600
CATEGORIES:Atelier,Autre,Exposition
ATTACH;FMTTYPE=image/jpeg:https://semainejaponoccitanie.fr/wp-content/uploads/2022/10/Logo_College_Martel.jpeg
ORGANIZER;CN="Quentin BERTHOMMIER":MAILTO:q.berthommier@gmail.com
END:VEVENT
BEGIN:VEVENT
DTSTART;TZID=Europe/Helsinki:20221130T000000
DTEND;TZID=Europe/Helsinki:20221130T235959
DTSTAMP:20260425T203415
CREATED:20221020T215850Z
LAST-MODIFIED:20221118T092144Z
UID:1569-1669766400-1669852799@semainejaponoccitanie.fr
SUMMARY:Le Japon : 360°
DESCRIPTION:Dans le cadre de la semaine du Japon en Occitanie\, l’université Paul-Valéry et les acteurs du monde socioculturel et sportif montpelliérains (MUC\, MUC omnisports\, Kendo\, Iaïdo\, Kyûdo) se regroupent pour proposer une journée thématique qui présente les différents aspects de l’univers japonais. Une exposition photographique sur campus introduira l’événement pendant une semaine. \nLa journée est organisée en trois temps\, selon les publics qui sont attendus :\n1. une matinée autour des arts visuels et de la culture contemporaine\, à destination principalement des enfants\, pour les sensibiliser aux graphismes japonais (animés\, mangas) ;\n2. une après-midi où sont attendus lycéens et étudiants\, au cours de laquelle se déroulent des animations socioculturelles et sportives (conférences\, ateliers thématiques\, démonstrations) qui permettent de présenter de multiples facettes du monde japonais ;\n3. une clôture autour d’un moment de convivialité\, à travers la cuisine japonaise\, où les participants pourront se réunir.  \nPlus précisément\, la journée est prévue pour accueillir les actions suivantes (sous réserve) :\n1. a. Un atelier d’initiation au dessin animé par des mangakas montpelliérains ;\n1. b. Une projection par l’association étudiante les Grives d’un animé Ghibli ;\n2. a. Une présentation du Diplôme Universitaire Tremplin vers le Japon : approche linguistique et interculturelle ;\n2. b. Une démonstration de Iaïdo ;\n2. c. Une conférence-interview sur la réception du manga en France ;\n2. d. Un atelier de cérémonie du thé ;\n2. e. Une conférence sur l’art japonais (Kote-e) ;\n2. f. Une démonstration de Kendo ;\n2. g. Une conférence sur la place de la femme au Japon ;\n2. h. Un atelier d’initiation à la langue japonaise ;\n2. i. Une conférence sur les paysages urbains japonais ;\n2. j. Une démonstration de Kyûdo ;\n3. Moment de convivialité avec le partage d’une dégustation de mets japonais.
URL:https://semainejaponoccitanie.fr/evenements/le-japon-360/
LOCATION:Université Paul-Valéry (Montpellier 3)\, Route de Mende\, Montpellier\, 34199
CATEGORIES:Atelier,Cérémonie,Conférence,Exposition
ATTACH;FMTTYPE=image/jpeg:https://semainejaponoccitanie.fr/wp-content/uploads/2022/11/2B8855C6-1674-4A83-B231-D425F77985AE.jpeg
ORGANIZER;CN="Christelle Chabbert (ITIC &amp%3B MUC)":MAILTO:christelle.chabbert@univ-montp3.fr
END:VEVENT
BEGIN:VEVENT
DTSTART;TZID=Europe/Helsinki:20221130T000000
DTEND;TZID=Europe/Helsinki:20221130T235959
DTSTAMP:20260425T203415
CREATED:20221020T221215Z
LAST-MODIFIED:20221111T132734Z
UID:1546-1669766400-1669852799@semainejaponoccitanie.fr
SUMMARY:Les centres de loisirs plongés dans une ambiance japonaise
DESCRIPTION:* Carré 3-6 ans : lecture de légendes japonaises* Carré 6-10 ans : initiation dessin sur la thématique manga & grand jeu autour des licences japonaises de renom (Pokémon\, One Piece…)* Passerelles : activité retro-gaming & karaoké \nLien vers le programme de la SJO à Albi
URL:https://semainejaponoccitanie.fr/evenements/les-centres-de-loisirs-plonges-dans-une-ambiance-japonaise/
LOCATION:Centres de Loisirs de la Ville d’Albi
CATEGORIES:Atelier
END:VEVENT
END:VCALENDAR